BEGIN:VCALENDAR
VERSION:2.0
PRODID:-//SPTS - ECPv6.0.12//NONSGML v1.0//EN
CALSCALE:GREGORIAN
METHOD:PUBLISH
X-ORIGINAL-URL:https://www.somersetpts.co.uk
X-WR-CALDESC:Events for SPTS
REFRESH-INTERVAL;VALUE=DURATION:PT1H
X-Robots-Tag:noindex
X-PUBLISHED-TTL:PT1H
BEGIN:VTIMEZONE
TZID:Europe/London
BEGIN:DAYLIGHT
TZOFFSETFROM:+0000
TZOFFSETTO:+0100
TZNAME:BST
DTSTART:20190331T010000
END:DAYLIGHT
BEGIN:STANDARD
TZOFFSETFROM:+0100
TZOFFSETTO:+0000
TZNAME:GMT
DTSTART:20191027T010000
END:STANDARD
END:VTIMEZONE
BEGIN:VEVENT
DTSTART;VALUE=DATE:20190204
DTEND;VALUE=DATE:20190205
DTSTAMP:20260424T062513
CREATED:20190103T154559Z
LAST-MODIFIED:20190103T154559Z
UID:10000032-1549238400-1549324799@www.somersetpts.co.uk
SUMMARY:Essential skills for new and aspiring science leadership
DESCRIPTION:If you are stepping into a new position as head of department then this course will give you all you need.  Working with an experienced science leader you will develop your vision and leadership skills to enable you to lead an effective and vibrant science team. \nSee flyer for details \nClick here to book online
URL:https://www.somersetpts.co.uk/event/essential-skills-for-new-and-aspiring-science-leadership/2019-02-04/
LOCATION:The Kings of Wessex Academy\, Station Road\, Cheddar\, BS27 3AQ
CATEGORIES:Secondary Science
END:VEVENT
BEGIN:VEVENT
DTSTART;VALUE=DATE:20190329
DTEND;VALUE=DATE:20190330
DTSTAMP:20260424T062513
CREATED:20190103T154559Z
LAST-MODIFIED:20190103T154559Z
UID:10000033-1553817600-1553903999@www.somersetpts.co.uk
SUMMARY:Essential skills for new and aspiring science leadership
DESCRIPTION:If you are stepping into a new position as head of department then this course will give you all you need.  Working with an experienced science leader you will develop your vision and leadership skills to enable you to lead an effective and vibrant science team. \nSee flyer for details \nClick here to book online
URL:https://www.somersetpts.co.uk/event/essential-skills-for-new-and-aspiring-science-leadership/2019-03-29/
LOCATION:The Kings of Wessex Academy\, Station Road\, Cheddar\, BS27 3AQ
CATEGORIES:Secondary Science
END:VEVENT
END:VCALENDAR