BEGIN:VCALENDAR
VERSION:2.0
PRODID:-//SPTS - ECPv6.0.12//NONSGML v1.0//EN
CALSCALE:GREGORIAN
METHOD:PUBLISH
X-WR-CALNAME:SPTS
X-ORIGINAL-URL:https://www.somersetpts.co.uk
X-WR-CALDESC:Events for SPTS
REFRESH-INTERVAL;VALUE=DURATION:PT1H
X-Robots-Tag:noindex
X-PUBLISHED-TTL:PT1H
BEGIN:VTIMEZONE
TZID:Europe/London
BEGIN:DAYLIGHT
TZOFFSETFROM:+0000
TZOFFSETTO:+0100
TZNAME:BST
DTSTART:20190331T010000
END:DAYLIGHT
BEGIN:STANDARD
TZOFFSETFROM:+0100
TZOFFSETTO:+0000
TZNAME:GMT
DTSTART:20191027T010000
END:STANDARD
END:VTIMEZONE
BEGIN:VEVENT
DTSTART;TZID=Europe/London:20190329T083000
DTEND;TZID=Europe/London:20190329T153000
DTSTAMP:20260424T045641
CREATED:20190103T152649Z
LAST-MODIFIED:20190103T153422Z
UID:10000028-1553848200-1553873400@www.somersetpts.co.uk
SUMMARY:Conference: Building science capital - engaging children through practical science
DESCRIPTION:Our primary conferences provide outstanding learning opportunities linked to topical developments in primary science teaching\, alongside time to talk and share ideas with other primary practitioners. \nSee flyer for details. \nClick here to book online.
URL:https://www.somersetpts.co.uk/event/conference-building-science-capital-engaging-children-through-practical-science/
LOCATION:Taunton Racecourse\, Taunton\, TA3 7BL
CATEGORIES:Primary Science
END:VEVENT
END:VCALENDAR