BEGIN:VCALENDAR
VERSION:2.0
PRODID:-//SPTS - ECPv6.0.12//NONSGML v1.0//EN
CALSCALE:GREGORIAN
METHOD:PUBLISH
X-ORIGINAL-URL:https://www.somersetpts.co.uk
X-WR-CALDESC:Events for SPTS
REFRESH-INTERVAL;VALUE=DURATION:PT1H
X-Robots-Tag:noindex
X-PUBLISHED-TTL:PT1H
BEGIN:VTIMEZONE
TZID:Europe/London
BEGIN:DAYLIGHT
TZOFFSETFROM:+0000
TZOFFSETTO:+0100
TZNAME:BST
DTSTART:20190331T010000
END:DAYLIGHT
BEGIN:STANDARD
TZOFFSETFROM:+0100
TZOFFSETTO:+0000
TZNAME:GMT
DTSTART:20191027T010000
END:STANDARD
END:VTIMEZONE
BEGIN:VEVENT
DTSTART;TZID=Europe/London:20190606T090000
DTEND;TZID=Europe/London:20190606T160000
DTSTAMP:20260423T213942
CREATED:20190306T114524Z
LAST-MODIFIED:20190306T115044Z
UID:10000055-1559811600-1559836800@www.somersetpts.co.uk
SUMMARY:Team-Teach Mop-Up Training 12 Hour Basic Training Course for Special Schools/Medium to High Risk Settings Day 1
DESCRIPTION:Team Teach flyer 2 day mop up flyer \nClick here to book online
URL:https://www.somersetpts.co.uk/event/team-teach-mop-up-training-12-hour-basic-training-course-for-special-schools-medium-to-high-risk-settings-day-2-2/
LOCATION:Fairmead School\, Mudford Road\, Yeovil\, BA21 4NJ\, United Kingdom
CATEGORIES:Team Teach
END:VEVENT
BEGIN:VEVENT
DTSTART;TZID=Europe/London:20190607T090000
DTEND;TZID=Europe/London:20190607T160000
DTSTAMP:20260423T213942
CREATED:20190306T115235Z
LAST-MODIFIED:20190306T115239Z
UID:10000058-1559898000-1559923200@www.somersetpts.co.uk
SUMMARY:Team-Teach Mop-Up Training 12 Hour Basic Training Course for Special Schools/Medium to High Risk Settings Day 2
DESCRIPTION:Team Teach flyer 2 day mop up flyer
URL:https://www.somersetpts.co.uk/event/team-teach-mop-up-training-12-hour-basic-training-course-for-special-schools-medium-to-high-risk-settings-day-2-3/
LOCATION:Fairmead School\, Mudford Road\, Yeovil\, BA21 4NJ\, United Kingdom
CATEGORIES:Team Teach
END:VEVENT
END:VCALENDAR