BEGIN:VCALENDAR
VERSION:2.0
PRODID:-//SPTS - ECPv6.0.12//NONSGML v1.0//EN
CALSCALE:GREGORIAN
METHOD:PUBLISH
X-WR-CALNAME:SPTS
X-ORIGINAL-URL:https://www.somersetpts.co.uk
X-WR-CALDESC:Events for SPTS
REFRESH-INTERVAL;VALUE=DURATION:PT1H
X-Robots-Tag:noindex
X-PUBLISHED-TTL:PT1H
BEGIN:VTIMEZONE
TZID:Europe/London
BEGIN:DAYLIGHT
TZOFFSETFROM:+0000
TZOFFSETTO:+0100
TZNAME:BST
DTSTART:20190331T010000
END:DAYLIGHT
BEGIN:STANDARD
TZOFFSETFROM:+0100
TZOFFSETTO:+0000
TZNAME:GMT
DTSTART:20191027T010000
END:STANDARD
BEGIN:DAYLIGHT
TZOFFSETFROM:+0000
TZOFFSETTO:+0100
TZNAME:BST
DTSTART:20200329T010000
END:DAYLIGHT
BEGIN:STANDARD
TZOFFSETFROM:+0100
TZOFFSETTO:+0000
TZNAME:GMT
DTSTART:20201025T010000
END:STANDARD
END:VTIMEZONE
BEGIN:VEVENT
DTSTART;TZID=Europe/London:20191122T090000
DTEND;TZID=Europe/London:20191122T160000
DTSTAMP:20260422T161824
CREATED:20191011T100537Z
LAST-MODIFIED:20191024T084102Z
UID:10000002-1574413200-1574438400@www.somersetpts.co.uk
SUMMARY:Developing the role of the primary science subject leader - Day One
DESCRIPTION:If you are looking for ways to improve science teaching in your school then good subject leadership is where you should start. \nYou will investigate a range of ways to audit and lead science teaching\, develop your role as a subject leader and identify new ways to help your pupils to explore and understand the world around them. You’ll benefit from working with other subject leaders to become confident in setting and managing processes for leading science effectively and to lead change in your school to support delivery of the primary curriculum. The second day of the course focuses on assessment and is delivered in parallel with Day 1 of the Leading assessment course. \nA two-day course: 22 November 2019 & 13 February 2020. \nCost: £190.00 \nSubject Leader & Assessment 19-20 Flyer \nBook now at www.stem.org.uk/rp101 \nDelegates on this course may also attend Day 2 of Leading assessment training for only £40.00 \nContact us for booking details
URL:https://www.somersetpts.co.uk/event/developing-the-role-of-the-primary-science-subject-leader-day-one/
LOCATION:Danesfield Middle School\, North Road\, Williton\, Taunton\, Somerset\, TA4 4SW\, United Kingdom
CATEGORIES:Primary Science
END:VEVENT
BEGIN:VEVENT
DTSTART;TZID=Europe/London:20200213T090000
DTEND;TZID=Europe/London:20200213T160000
DTSTAMP:20260422T161824
CREATED:20191011T114011Z
LAST-MODIFIED:20191104T145447Z
UID:10000003-1581584400-1581609600@www.somersetpts.co.uk
SUMMARY:Leading assessment\, moderation and tracking in primary science - Day One
DESCRIPTION:This course is ideal for teachers who want to gain a greater understanding of the current expectations around assessment and children’s progress in science. \nIt can be taken as a two-day course\, or day 1 as a stand alone day. \nDay 1: Where are we now? A national update on the current picture of assessment. A look at in-school formative assessment and what this looks like in terms of science. A consideration of how TAPS can support a formative assessment approach culminating in summative judgements being made. \nDay 2: an in-depth focus on in-school summative assessment and how the PLAN materials can support making summative judgements. How the teacher assessment frameworks needs to be a whole school issue and how to moderate work to ensure the reliability of judgments. A look at nationally standardised summative assessments and how these can be used formatively in the classroom. \nA two-day course: 13 February & 2 March 2020. \nDownload Flyer \nCost: £190.00 \nOr day 1 only: 13 February 2020 –  £95.00 \nBook now at www.stem.org.uk/rp198
URL:https://www.somersetpts.co.uk/event/leading-assessment-moderation-and-tracking-in-primary-science-day-one/
LOCATION:Danesfield Middle School\, North Road\, Williton\, Taunton\, Somerset\, TA4 4SW\, United Kingdom
CATEGORIES:Primary Science
END:VEVENT
BEGIN:VEVENT
DTSTART;TZID=Europe/London:20200302T090000
DTEND;TZID=Europe/London:20200302T160000
DTSTAMP:20260422T161824
CREATED:20191011T114650Z
LAST-MODIFIED:20191011T122028Z
UID:10000004-1583139600-1583164800@www.somersetpts.co.uk
SUMMARY:Leading assessment\, moderation and tracking in primary science - Day Two
DESCRIPTION:This course is ideal for teachers who want to gain a greater understanding of the current expectations around assessment and children’s progress in science. \nIt can be taken as a two-day course\, or day 1 as a standalone day. \nDay 1: Where are we now? A national update on the current picture of assessment. A look at in-school formative assessment and what this looks like in terms of science. A consideration of how TAPS can support a formative assessment approach culminating in summative judgements being made. \nDay 2: an in-depth focus on in-school summative assessment and how the PLAN materials can support making summative judgements. How the teacher assessment frameworks needs to be a whole school issue and how to moderate work to ensure the reliability of judgments. A look at nationally standardised summative assessments and how these can be used formatively in the classroom. \nA two-day course: 13 February & 2 March 2020. \nSubject Leader & Assessment Flyer \nCost: £190.00 \nBook now at www.stem.org.uk/rp198
URL:https://www.somersetpts.co.uk/event/leading-assessment-moderation-and-tracking-in-primary-science-day-two/
LOCATION:Danesfield Middle School\, North Road\, Williton\, Taunton\, Somerset\, TA4 4SW\, United Kingdom
CATEGORIES:Primary Science
END:VEVENT
END:VCALENDAR