BEGIN:VCALENDAR
VERSION:2.0
PRODID:-//SPTS - ECPv6.0.12//NONSGML v1.0//EN
CALSCALE:GREGORIAN
METHOD:PUBLISH
X-ORIGINAL-URL:https://www.somersetpts.co.uk
X-WR-CALDESC:Events for SPTS
REFRESH-INTERVAL;VALUE=DURATION:PT1H
X-Robots-Tag:noindex
X-PUBLISHED-TTL:PT1H
BEGIN:VTIMEZONE
TZID:Europe/London
BEGIN:DAYLIGHT
TZOFFSETFROM:+0000
TZOFFSETTO:+0100
TZNAME:BST
DTSTART:20210328T010000
END:DAYLIGHT
BEGIN:STANDARD
TZOFFSETFROM:+0100
TZOFFSETTO:+0000
TZNAME:GMT
DTSTART:20211031T010000
END:STANDARD
BEGIN:DAYLIGHT
TZOFFSETFROM:+0000
TZOFFSETTO:+0100
TZNAME:BST
DTSTART:20220327T010000
END:DAYLIGHT
BEGIN:STANDARD
TZOFFSETFROM:+0100
TZOFFSETTO:+0000
TZNAME:GMT
DTSTART:20221030T010000
END:STANDARD
END:VTIMEZONE
BEGIN:VEVENT
DTSTART;TZID=Europe/London:20220216T093000
DTEND;TZID=Europe/London:20220216T150000
DTSTAMP:20260420T090619
CREATED:20210803T104342Z
LAST-MODIFIED:20210924T154155Z
UID:10000166-1645003800-1645023600@www.somersetpts.co.uk
SUMMARY:Getting Started as a TA - Spring 2022 Course
DESCRIPTION:This popular\, practical 2 day course for those brand new to the role of TA\, is offered again in spring 2022. \nDay 1: 19 January\, Day 2: 16 February \nThe course aims to develop a new TA’s confidence and understanding of their: \n\nRoles and responsibilities\nEffective practice\nEssential toolkit and approaches
URL:https://www.somersetpts.co.uk/event/getting-started-as-a-ta-spring-2022-courses/2022-02-16/
LOCATION:Fiveways School\, Victoria Rd\, Yeovil\, BA21 5AZ\, United Kingdom
CATEGORIES:Workforce Development
END:VEVENT
BEGIN:VEVENT
DTSTART;TZID=Europe/London:20220119T093000
DTEND;TZID=Europe/London:20220119T150000
DTSTAMP:20260420T090619
CREATED:20210803T104342Z
LAST-MODIFIED:20210924T154155Z
UID:10000165-1642584600-1642604400@www.somersetpts.co.uk
SUMMARY:Getting Started as a TA - Spring 2022 Course
DESCRIPTION:This popular\, practical 2 day course for those brand new to the role of TA\, is offered again in spring 2022. \nDay 1: 19 January\, Day 2: 16 February \nThe course aims to develop a new TA’s confidence and understanding of their: \n\nRoles and responsibilities\nEffective practice\nEssential toolkit and approaches
URL:https://www.somersetpts.co.uk/event/getting-started-as-a-ta-spring-2022-courses/2022-01-19/
LOCATION:Fiveways School\, Victoria Rd\, Yeovil\, BA21 5AZ\, United Kingdom
CATEGORIES:Workforce Development
END:VEVENT
BEGIN:VEVENT
DTSTART;TZID=Europe/London:20211202T093000
DTEND;TZID=Europe/London:20211202T150000
DTSTAMP:20260420T090619
CREATED:20210802T110212Z
LAST-MODIFIED:20211005T132239Z
UID:10000163-1638437400-1638457200@www.somersetpts.co.uk
SUMMARY:Signalong for Parents\, Carers and Professionals
DESCRIPTION:A sign-supported communication system designed for children and adults with speech and language difficulties. Most users have learning disabilities or autism spectrum disorders\, but the system is available to anyone who needs signing\, including those with physical disabilities or hearing impairment. \n\n\n\n\nProfessionals £75.  Please follow the link below for bookings. \n\n\n\n\nParents/carers £30 (free for those eligible for free school meals)\, please contact officespts@educ.somerset.gov.uk
URL:https://www.somersetpts.co.uk/event/singalong/
LOCATION:Fiveways School\, Victoria Rd\, Yeovil\, BA21 5AZ\, United Kingdom
CATEGORIES:SEND
END:VEVENT
BEGIN:VEVENT
DTSTART;TZID=Europe/London:20211117T090000
DTEND;TZID=Europe/London:20211117T160000
DTSTAMP:20260420T090619
CREATED:20210802T112222Z
LAST-MODIFIED:20210928T150333Z
UID:10000164-1637139600-1637164800@www.somersetpts.co.uk
SUMMARY:Team Teach Positive Behaviour Management - Level One
DESCRIPTION:This 6 hr course provides individuals with practical\, interactive training\, designed to transform participants’ practice in school\, allowing those working in low-risk primary and secondary schools to understand and implement holistic behaviour management strategies. \nUpon completing this course\, a participant will be able to fully understand the rationale and principles of the Team Teach approach. They will be equipped with expertise and confidence to stay safe\, to carry out simple de-escalation strategies and to apply basic positive handling\, mostly focused on guiding and escorting pupils. Participants will be fully aware of which strategies are most appropriate for any given situation\, and will have a far deeper understanding of the causes of disruptive behaviour. \nCertification for this course is valid for 36 months.  \n£120 per person (multiple booking discounts available)
URL:https://www.somersetpts.co.uk/event/team-teach-6-hour/
LOCATION:Fiveways School\, Victoria Rd\, Yeovil\, BA21 5AZ\, United Kingdom
CATEGORIES:Team Teach
END:VEVENT
END:VCALENDAR